BEGIN:VCALENDAR
VERSION:2.0
PRODID:-//Overcomers House Swindon - ECPv6.15.18//NONSGML v1.0//EN
CALSCALE:GREGORIAN
METHOD:PUBLISH
X-ORIGINAL-URL:https://theovercomers.org.uk
X-WR-CALDESC:Events for Overcomers House Swindon
REFRESH-INTERVAL;VALUE=DURATION:PT1H
X-Robots-Tag:noindex
X-PUBLISHED-TTL:PT1H
BEGIN:VTIMEZONE
TZID:Europe/London
BEGIN:DAYLIGHT
TZOFFSETFROM:+0000
TZOFFSETTO:+0100
TZNAME:BST
DTSTART:20250330T010000
END:DAYLIGHT
BEGIN:STANDARD
TZOFFSETFROM:+0100
TZOFFSETTO:+0000
TZNAME:GMT
DTSTART:20251026T010000
END:STANDARD
BEGIN:DAYLIGHT
TZOFFSETFROM:+0000
TZOFFSETTO:+0100
TZNAME:BST
DTSTART:20260329T010000
END:DAYLIGHT
BEGIN:STANDARD
TZOFFSETFROM:+0100
TZOFFSETTO:+0000
TZNAME:GMT
DTSTART:20261025T010000
END:STANDARD
BEGIN:DAYLIGHT
TZOFFSETFROM:+0000
TZOFFSETTO:+0100
TZNAME:BST
DTSTART:20270328T010000
END:DAYLIGHT
BEGIN:STANDARD
TZOFFSETFROM:+0100
TZOFFSETTO:+0000
TZNAME:GMT
DTSTART:20271031T010000
END:STANDARD
END:VTIMEZONE
BEGIN:VTIMEZONE
TZID:UTC
BEGIN:STANDARD
TZOFFSETFROM:+0000
TZOFFSETTO:+0000
TZNAME:UTC
DTSTART:20250101T000000
END:STANDARD
END:VTIMEZONE
BEGIN:VEVENT
DTSTART;TZID=Europe/London:20260105T170000
DTEND;TZID=Europe/London:20260111T130000
DTSTAMP:20260422T142814
CREATED:20251228T142333Z
LAST-MODIFIED:20251228T142339Z
UID:7057-1767632400-1768136400@theovercomers.org.uk
SUMMARY:7 Days Prayer & Fasting 2026
DESCRIPTION:Monday to Friday 6pm – 7pm \nSaturday 5pm – 6pm \nSunday Letter to God Service 10:30am – 1pm \n  \n 
URL:https://theovercomers.org.uk/programmes/7-days-prayer-fasting-2026/
ATTACH;FMTTYPE=image/jpeg:https://theovercomers.org.uk/wp-content/uploads/2025/12/WhatsApp-Image-2025-12-28-at-07.41.28.jpeg
END:VEVENT
BEGIN:VEVENT
DTSTART;TZID=UTC:20260108T103000
DTEND;TZID=UTC:20260108T130000
DTSTAMP:20260422T142814
CREATED:20260108T125915Z
LAST-MODIFIED:20260109T120021Z
UID:7067-1767868200-1767877200@theovercomers.org.uk
SUMMARY:LETTER TO GOD 2026 Service
DESCRIPTION:Come to church in-person with your Letter to God. We shall all testify in Jesus name\, amen!
URL:https://theovercomers.org.uk/programmes/letter-to-god-2026-service/
LOCATION:Church Auditorium\, Crampton Road\, Greenbridge Ind. Estate\, Swindon\, SN3 3JJ\, United Kingdom
ATTACH;FMTTYPE=image/jpeg:https://theovercomers.org.uk/wp-content/uploads/2026/01/WhatsApp-Image-2026-01-08-at-11.52.36.jpeg
END:VEVENT
END:VCALENDAR