BEGIN:VCALENDAR
VERSION:2.0
PRODID:-//Overcomers House Swindon - ECPv6.15.18//NONSGML v1.0//EN
CALSCALE:GREGORIAN
METHOD:PUBLISH
X-ORIGINAL-URL:https://theovercomers.org.uk
X-WR-CALDESC:Events for Overcomers House Swindon
REFRESH-INTERVAL;VALUE=DURATION:PT1H
X-Robots-Tag:noindex
X-PUBLISHED-TTL:PT1H
BEGIN:VTIMEZONE
TZID:Europe/London
BEGIN:DAYLIGHT
TZOFFSETFROM:+0000
TZOFFSETTO:+0100
TZNAME:BST
DTSTART:20250330T010000
END:DAYLIGHT
BEGIN:STANDARD
TZOFFSETFROM:+0100
TZOFFSETTO:+0000
TZNAME:GMT
DTSTART:20251026T010000
END:STANDARD
BEGIN:DAYLIGHT
TZOFFSETFROM:+0000
TZOFFSETTO:+0100
TZNAME:BST
DTSTART:20260329T010000
END:DAYLIGHT
BEGIN:STANDARD
TZOFFSETFROM:+0100
TZOFFSETTO:+0000
TZNAME:GMT
DTSTART:20261025T010000
END:STANDARD
BEGIN:DAYLIGHT
TZOFFSETFROM:+0000
TZOFFSETTO:+0100
TZNAME:BST
DTSTART:20270328T010000
END:DAYLIGHT
BEGIN:STANDARD
TZOFFSETFROM:+0100
TZOFFSETTO:+0000
TZNAME:GMT
DTSTART:20271031T010000
END:STANDARD
END:VTIMEZONE
BEGIN:VEVENT
DTSTART;TZID=Europe/London:20260122T170000
DTEND;TZID=Europe/London:20260124T170000
DTSTAMP:20260422T142712
CREATED:20260119T115554Z
LAST-MODIFIED:20260119T115554Z
UID:7072-1769101200-1769274000@theovercomers.org.uk
SUMMARY:OHS Men's Retreat
DESCRIPTION:
URL:https://theovercomers.org.uk/programmes/ohs-mens-retreat/
LOCATION:Zoom
ATTACH;FMTTYPE=image/jpeg:https://theovercomers.org.uk/wp-content/uploads/2026/01/WhatsApp-Image-2026-01-17-at-19.45.04.jpeg
END:VEVENT
BEGIN:VEVENT
DTSTART;TZID=Europe/London:20260125T103000
DTEND;TZID=Europe/London:20260125T130000
DTSTAMP:20260422T142712
CREATED:20260121T173024Z
LAST-MODIFIED:20260121T173025Z
UID:7079-1769337000-1769346000@theovercomers.org.uk
SUMMARY:Covenant Sunday 2026
DESCRIPTION:
URL:https://theovercomers.org.uk/programmes/covenant-sunday-2026/
LOCATION:Church Auditorium\, Crampton Road\, Greenbridge Ind. Estate\, Swindon\, SN3 3JJ\, United Kingdom
ATTACH;FMTTYPE=image/jpeg:https://theovercomers.org.uk/wp-content/uploads/2026/01/WhatsApp-Image-2026-01-21-at-16.18.28.jpeg
END:VEVENT
END:VCALENDAR