BEGIN:VCALENDAR
VERSION:2.0
PRODID:-//Overcomers House Swindon - ECPv6.15.18//NONSGML v1.0//EN
CALSCALE:GREGORIAN
METHOD:PUBLISH
X-WR-CALNAME:Overcomers House Swindon
X-ORIGINAL-URL:https://theovercomers.org.uk
X-WR-CALDESC:Events for Overcomers House Swindon
REFRESH-INTERVAL;VALUE=DURATION:PT1H
X-Robots-Tag:noindex
X-PUBLISHED-TTL:PT1H
BEGIN:VTIMEZONE
TZID:Europe/London
BEGIN:DAYLIGHT
TZOFFSETFROM:+0000
TZOFFSETTO:+0100
TZNAME:BST
DTSTART:20250330T010000
END:DAYLIGHT
BEGIN:STANDARD
TZOFFSETFROM:+0100
TZOFFSETTO:+0000
TZNAME:GMT
DTSTART:20251026T010000
END:STANDARD
BEGIN:DAYLIGHT
TZOFFSETFROM:+0000
TZOFFSETTO:+0100
TZNAME:BST
DTSTART:20260329T010000
END:DAYLIGHT
BEGIN:STANDARD
TZOFFSETFROM:+0100
TZOFFSETTO:+0000
TZNAME:GMT
DTSTART:20261025T010000
END:STANDARD
BEGIN:DAYLIGHT
TZOFFSETFROM:+0000
TZOFFSETTO:+0100
TZNAME:BST
DTSTART:20270328T010000
END:DAYLIGHT
BEGIN:STANDARD
TZOFFSETFROM:+0100
TZOFFSETTO:+0000
TZNAME:GMT
DTSTART:20271031T010000
END:STANDARD
END:VTIMEZONE
BEGIN:VTIMEZONE
TZID:UTC
BEGIN:STANDARD
TZOFFSETFROM:+0000
TZOFFSETTO:+0000
TZNAME:UTC
DTSTART:20250101T000000
END:STANDARD
END:VTIMEZONE
BEGIN:VEVENT
DTSTART;TZID=Europe/London:20260201T080000
DTEND;TZID=Europe/London:20260302T170000
DTSTAMP:20260422T123319
CREATED:20260202T174115Z
LAST-MODIFIED:20260202T174309Z
UID:7093-1769932800-1772470800@theovercomers.org.uk
SUMMARY:30 Days of Fasting & Prayers 2026
DESCRIPTION:Download Prayer Points for the period of fasting
URL:https://theovercomers.org.uk/programmes/30-days-of-fasting-prayers-2026/
LOCATION:Zoom
ATTACH;FMTTYPE=image/jpeg:https://theovercomers.org.uk/wp-content/uploads/2026/02/WhatsApp-Image-2026-02-01-at-15.38.53.jpeg
END:VEVENT
BEGIN:VEVENT
DTSTART;TZID=Europe/London:20260201T103000
DTEND;TZID=Europe/London:20260201T130000
DTSTAMP:20260422T123319
CREATED:20260131T152842Z
LAST-MODIFIED:20260131T152842Z
UID:7083-1769941800-1769950800@theovercomers.org.uk
SUMMARY:February Thanksgiving Service
DESCRIPTION:
URL:https://theovercomers.org.uk/programmes/february-thanksgiving-service/
LOCATION:Church Auditorium\, Crampton Road\, Greenbridge Ind. Estate\, Swindon\, SN3 3JJ\, United Kingdom
ATTACH;FMTTYPE=image/jpeg:https://theovercomers.org.uk/wp-content/uploads/2026/01/PHOTO-2026-01-30-18-44-36.jpg
END:VEVENT
BEGIN:VEVENT
DTSTART;TZID=Europe/London:20260213T173000
DTEND;TZID=Europe/London:20260213T190000
DTSTAMP:20260422T123319
CREATED:20260212T165306Z
LAST-MODIFIED:20260212T165313Z
UID:7098-1771003800-1771009200@theovercomers.org.uk
SUMMARY:Singles Hangout Dinner
DESCRIPTION:
URL:https://theovercomers.org.uk/programmes/singles-hangout-dinner/
ATTACH;FMTTYPE=image/jpeg:https://theovercomers.org.uk/wp-content/uploads/2026/02/WhatsApp-Image-2026-02-07-at-19.30.33.jpeg
END:VEVENT
BEGIN:VEVENT
DTSTART;TZID=Europe/London:20260215T103000
DTEND;TZID=Europe/London:20260215T130000
DTSTAMP:20260422T123319
CREATED:20260214T053105Z
LAST-MODIFIED:20260214T053110Z
UID:7105-1771151400-1771160400@theovercomers.org.uk
SUMMARY:Special Family Sunday 2026
DESCRIPTION:
URL:https://theovercomers.org.uk/programmes/special-family-sunday-2026/
LOCATION:Church Auditorium\, Crampton Road\, Greenbridge Ind. Estate\, Swindon\, SN3 3JJ\, United Kingdom
ATTACH;FMTTYPE=image/jpeg:https://theovercomers.org.uk/wp-content/uploads/2026/02/WhatsApp-Image-2026-02-13-at-09.15.04.jpeg
END:VEVENT
BEGIN:VEVENT
DTSTART;TZID=Europe/London:20260221T110000
DTEND;TZID=Europe/London:20260221T123000
DTSTAMP:20260422T123319
CREATED:20260213T082712Z
LAST-MODIFIED:20260213T105719Z
UID:7101-1771671600-1771677000@theovercomers.org.uk
SUMMARY:Praying Mums Forum January 2026 Edition
DESCRIPTION:
URL:https://theovercomers.org.uk/programmes/praying-mums-forum-january-edition/
ATTACH;FMTTYPE=image/jpeg:https://theovercomers.org.uk/wp-content/uploads/2026/02/WhatsApp-Image-2026-02-10-at-21.20.47-1.jpeg
END:VEVENT
BEGIN:VEVENT
DTSTART;TZID=UTC:20260222T103000
DTEND;TZID=UTC:20260222T130000
DTSTAMP:20260422T123319
CREATED:20260219T104958Z
LAST-MODIFIED:20260219T104958Z
UID:7108-1771756200-1771765200@theovercomers.org.uk
SUMMARY:Deliverance Service
DESCRIPTION:
URL:https://theovercomers.org.uk/programmes/deliverance-service-2/
LOCATION:Church Auditorium\, Crampton Road\, Greenbridge Ind. Estate\, Swindon\, SN3 3JJ\, United Kingdom
ATTACH;FMTTYPE=image/jpeg:https://theovercomers.org.uk/wp-content/uploads/2026/02/WhatsApp-Image-2026-02-19-at-08.54.46.jpeg
END:VEVENT
END:VCALENDAR