BEGIN:VCALENDAR
VERSION:2.0
PRODID:-//Overcomers House Swindon - ECPv6.15.18//NONSGML v1.0//EN
CALSCALE:GREGORIAN
METHOD:PUBLISH
X-WR-CALNAME:Overcomers House Swindon
X-ORIGINAL-URL:https://theovercomers.org.uk
X-WR-CALDESC:Events for Overcomers House Swindon
REFRESH-INTERVAL;VALUE=DURATION:PT1H
X-Robots-Tag:noindex
X-PUBLISHED-TTL:PT1H
BEGIN:VTIMEZONE
TZID:Europe/London
BEGIN:DAYLIGHT
TZOFFSETFROM:+0000
TZOFFSETTO:+0100
TZNAME:BST
DTSTART:20220327T010000
END:DAYLIGHT
BEGIN:STANDARD
TZOFFSETFROM:+0100
TZOFFSETTO:+0000
TZNAME:GMT
DTSTART:20221030T010000
END:STANDARD
BEGIN:DAYLIGHT
TZOFFSETFROM:+0000
TZOFFSETTO:+0100
TZNAME:BST
DTSTART:20230326T010000
END:DAYLIGHT
BEGIN:STANDARD
TZOFFSETFROM:+0100
TZOFFSETTO:+0000
TZNAME:GMT
DTSTART:20231029T010000
END:STANDARD
BEGIN:DAYLIGHT
TZOFFSETFROM:+0000
TZOFFSETTO:+0100
TZNAME:BST
DTSTART:20240331T010000
END:DAYLIGHT
BEGIN:STANDARD
TZOFFSETFROM:+0100
TZOFFSETTO:+0000
TZNAME:GMT
DTSTART:20241027T010000
END:STANDARD
BEGIN:DAYLIGHT
TZOFFSETFROM:+0000
TZOFFSETTO:+0100
TZNAME:BST
DTSTART:20250330T010000
END:DAYLIGHT
BEGIN:STANDARD
TZOFFSETFROM:+0100
TZOFFSETTO:+0000
TZNAME:GMT
DTSTART:20251026T010000
END:STANDARD
END:VTIMEZONE
BEGIN:VTIMEZONE
TZID:UTC
BEGIN:STANDARD
TZOFFSETFROM:+0000
TZOFFSETTO:+0000
TZNAME:UTC
DTSTART:20220101T000000
END:STANDARD
END:VTIMEZONE
BEGIN:VEVENT
DTSTART;TZID=Europe/London:20240210T160000
DTEND;TZID=Europe/London:20240210T190000
DTSTAMP:20260424T173504
CREATED:20240203T131013Z
LAST-MODIFIED:20240203T131013Z
UID:5755-1707580800-1707591600@theovercomers.org.uk
SUMMARY:Limitless Ministry Valentine's programme
DESCRIPTION:An exciting event for Overcomers House Swindon singles!
URL:https://theovercomers.org.uk/programmes/limitless-ministry-valentines-programme/
ATTACH;FMTTYPE=image/png:https://theovercomers.org.uk/wp-content/uploads/2024/02/Valentines-Movie-Night-3.png
END:VEVENT
BEGIN:VEVENT
DTSTART;TZID=UTC:20240207T180000
DTEND;TZID=UTC:20240207T193000
DTSTAMP:20260424T173504
CREATED:20240117T202215Z
LAST-MODIFIED:20240117T202215Z
UID:5678-1707328800-1707334200@theovercomers.org.uk
SUMMARY:Bible study
DESCRIPTION:
URL:https://theovercomers.org.uk/programmes/bible-study-12/
LOCATION:Church Auditorium\, Crampton Road\, Greenbridge Ind. Estate\, Swindon\, SN3 3JJ\, United Kingdom
ATTACH;FMTTYPE=image/jpeg:https://theovercomers.org.uk/wp-content/uploads/2023/10/Bible-study.jpg
END:VEVENT
BEGIN:VEVENT
DTSTART;TZID=UTC:20240204T103000
DTEND;TZID=UTC:20240204T130000
DTSTAMP:20260424T173504
CREATED:20240117T235051Z
LAST-MODIFIED:20240203T131143Z
UID:5707-1707042600-1707051600@theovercomers.org.uk
SUMMARY:Thanksgiving Service
DESCRIPTION:
URL:https://theovercomers.org.uk/programmes/thanksgiving-service/
LOCATION:Church Auditorium\, Crampton Road\, Greenbridge Ind. Estate\, Swindon\, SN3 3JJ\, United Kingdom
ATTACH;FMTTYPE=image/png:https://theovercomers.org.uk/wp-content/uploads/2024/01/thanksgiving-service-Jan24-4.png
END:VEVENT
BEGIN:VEVENT
DTSTART;TZID=UTC:20240201T060000
DTEND;TZID=UTC:20240201T070000
DTSTAMP:20260424T173504
CREATED:20240117T184925Z
LAST-MODIFIED:20240117T184925Z
UID:5683-1706767200-1706770800@theovercomers.org.uk
SUMMARY:Begin the month with Jesus!
DESCRIPTION:
URL:https://theovercomers.org.uk/programmes/begin-the-month-with-jesus-2/
LOCATION:Church Auditorium\, Crampton Road\, Greenbridge Ind. Estate\, Swindon\, SN3 3JJ\, United Kingdom
END:VEVENT
BEGIN:VEVENT
DTSTART;TZID=UTC:20240131T180000
DTEND;TZID=UTC:20240131T193000
DTSTAMP:20260424T173504
CREATED:20240117T184648Z
LAST-MODIFIED:20240117T184648Z
UID:5677-1706724000-1706729400@theovercomers.org.uk
SUMMARY:Bible study
DESCRIPTION:
URL:https://theovercomers.org.uk/programmes/bible-study-11/
LOCATION:Church Auditorium\, Crampton Road\, Greenbridge Ind. Estate\, Swindon\, SN3 3JJ\, United Kingdom
ATTACH;FMTTYPE=image/jpeg:https://theovercomers.org.uk/wp-content/uploads/2023/10/Bible-study.jpg
END:VEVENT
BEGIN:VEVENT
DTSTART;TZID=UTC:20240131T120000
DTEND;TZID=UTC:20240131T123000
DTSTAMP:20260424T173504
CREATED:20231207T215650Z
LAST-MODIFIED:20231207T215730Z
UID:5441-1706702400-1706704200@theovercomers.org.uk
SUMMARY:Prophetic Declarations with Pastor Gabriel
DESCRIPTION:
URL:https://theovercomers.org.uk/programmes/prophetic-declarations-with-pastor-gabriel-12/
LOCATION:Facebook (Pst)\, Facebook Live Stream
ATTACH;FMTTYPE=image/jpeg:https://theovercomers.org.uk/wp-content/uploads/2023/05/30min-prayer1.jpg
END:VEVENT
BEGIN:VEVENT
DTSTART;TZID=UTC:20240128T103000
DTEND;TZID=UTC:20240128T123000
DTSTAMP:20260424T173504
CREATED:20240117T234751Z
LAST-MODIFIED:20240117T234751Z
UID:5694-1706437800-1706445000@theovercomers.org.uk
SUMMARY:Sunday Service
DESCRIPTION:
URL:https://theovercomers.org.uk/programmes/sunday-service-10/
LOCATION:Church Auditorium\, Crampton Road\, Greenbridge Ind. Estate\, Swindon\, SN3 3JJ\, United Kingdom
ATTACH;FMTTYPE=image/png:https://theovercomers.org.uk/wp-content/uploads/2024/01/Sunday-Service.png
END:VEVENT
BEGIN:VEVENT
DTSTART;TZID=UTC:20240126T220000
DTEND;TZID=UTC:20240127T010000
DTSTAMP:20260424T173504
CREATED:20240122T131235Z
LAST-MODIFIED:20240122T131236Z
UID:5741-1706306400-1706317200@theovercomers.org.uk
SUMMARY:Power Night!
DESCRIPTION:
URL:https://theovercomers.org.uk/programmes/power-night-3/
LOCATION:Church Auditorium\, Crampton Road\, Greenbridge Ind. Estate\, Swindon\, SN3 3JJ\, United Kingdom
ATTACH;FMTTYPE=image/jpeg:https://theovercomers.org.uk/wp-content/uploads/2024/01/WhatsApp-Image-2024-01-22-at-12.35.28-PM.jpeg
END:VEVENT
BEGIN:VEVENT
DTSTART;TZID=UTC:20240124T180000
DTEND;TZID=UTC:20240124T193000
DTSTAMP:20260424T173504
CREATED:20240117T181942Z
LAST-MODIFIED:20240117T181942Z
UID:5675-1706119200-1706124600@theovercomers.org.uk
SUMMARY:Bible study
DESCRIPTION:
URL:https://theovercomers.org.uk/programmes/bible-study-10/
LOCATION:Church Auditorium\, Crampton Road\, Greenbridge Ind. Estate\, Swindon\, SN3 3JJ\, United Kingdom
ATTACH;FMTTYPE=image/jpeg:https://theovercomers.org.uk/wp-content/uploads/2023/10/Bible-study.jpg
END:VEVENT
BEGIN:VEVENT
DTSTART;TZID=UTC:20240121T103000
DTEND;TZID=UTC:20240121T123000
DTSTAMP:20260424T173504
CREATED:20240117T234652Z
LAST-MODIFIED:20240117T234652Z
UID:5693-1705833000-1705840200@theovercomers.org.uk
SUMMARY:Sunday Service
DESCRIPTION:
URL:https://theovercomers.org.uk/programmes/sunday-service-9/
LOCATION:Church Auditorium\, Crampton Road\, Greenbridge Ind. Estate\, Swindon\, SN3 3JJ\, United Kingdom
ATTACH;FMTTYPE=image/png:https://theovercomers.org.uk/wp-content/uploads/2024/01/Sunday-Service.png
END:VEVENT
BEGIN:VEVENT
DTSTART;TZID=UTC:20240120T110000
DTEND;TZID=UTC:20240120T120000
DTSTAMP:20260424T173504
CREATED:20240114T002234Z
LAST-MODIFIED:20240116T170602Z
UID:5642-1705748400-1705752000@theovercomers.org.uk
SUMMARY:Praying Mums Forum
DESCRIPTION:
URL:https://theovercomers.org.uk/programmes/praying-mums-forum-3/
LOCATION:Hope Hall
END:VEVENT
BEGIN:VEVENT
DTSTART;TZID=UTC:20240117T180000
DTEND;TZID=UTC:20240117T193000
DTSTAMP:20260424T173504
CREATED:20231105T005230Z
LAST-MODIFIED:20240117T181603Z
UID:5086-1705514400-1705519800@theovercomers.org.uk
SUMMARY:Bible study
DESCRIPTION:
URL:https://theovercomers.org.uk/programmes/bible-study-8/
LOCATION:Church Auditorium\, Crampton Road\, Greenbridge Ind. Estate\, Swindon\, SN3 3JJ\, United Kingdom
ATTACH;FMTTYPE=image/jpeg:https://theovercomers.org.uk/wp-content/uploads/2023/10/Bible-study.jpg
END:VEVENT
BEGIN:VEVENT
DTSTART;TZID=UTC:20240117T120000
DTEND;TZID=UTC:20240117T123000
DTSTAMP:20260424T173504
CREATED:20231207T215616Z
LAST-MODIFIED:20231207T215623Z
UID:5439-1705492800-1705494600@theovercomers.org.uk
SUMMARY:Prophetic Declarations with Pastor Gabriel
DESCRIPTION:
URL:https://theovercomers.org.uk/programmes/prophetic-declarations-with-pastor-gabriel-11/
LOCATION:Facebook (Pst)\, Facebook Live Stream
ATTACH;FMTTYPE=image/jpeg:https://theovercomers.org.uk/wp-content/uploads/2023/05/30min-prayer1.jpg
END:VEVENT
BEGIN:VEVENT
DTSTART;TZID=UTC:20240114T103000
DTEND;TZID=UTC:20240114T130000
DTSTAMP:20260424T173504
CREATED:20240112T164240Z
LAST-MODIFIED:20240112T164241Z
UID:5123-1705228200-1705237200@theovercomers.org.uk
SUMMARY:Special Service - LETTER TO GOD
DESCRIPTION:Come to church in-person with your letter to God. We shall all testify in Jesus name\, amen!
URL:https://theovercomers.org.uk/programmes/special-service-letter-to-god/
LOCATION:Church Auditorium\, Crampton Road\, Greenbridge Ind. Estate\, Swindon\, SN3 3JJ\, United Kingdom
ATTACH;FMTTYPE=image/png:https://theovercomers.org.uk/wp-content/uploads/2023/11/Letter2023-2.png
END:VEVENT
BEGIN:VEVENT
DTSTART;TZID=UTC:20240113T180000
DTEND;TZID=UTC:20240113T190000
DTSTAMP:20260424T173504
CREATED:20240104T234939Z
LAST-MODIFIED:20240104T235331Z
UID:5606-1705168800-1705172400@theovercomers.org.uk
SUMMARY:7 days Prayer and Fasting
DESCRIPTION:
URL:https://theovercomers.org.uk/programmes/7-days-prayer-and-fasting-5/
LOCATION:Church Auditorium\, Crampton Road\, Greenbridge Ind. Estate\, Swindon\, SN3 3JJ\, United Kingdom
ATTACH;FMTTYPE=image/png:https://theovercomers.org.uk/wp-content/uploads/2024/01/Lettter2023-5.png
END:VEVENT
BEGIN:VEVENT
DTSTART;TZID=UTC:20240112T180000
DTEND;TZID=UTC:20240112T190000
DTSTAMP:20260424T173504
CREATED:20240104T235406Z
LAST-MODIFIED:20240104T235406Z
UID:5605-1705082400-1705086000@theovercomers.org.uk
SUMMARY:7 days Prayer and Fasting
DESCRIPTION:
URL:https://theovercomers.org.uk/programmes/7-days-prayer-and-fasting-6/
LOCATION:Church Auditorium\, Crampton Road\, Greenbridge Ind. Estate\, Swindon\, SN3 3JJ\, United Kingdom
ATTACH;FMTTYPE=image/png:https://theovercomers.org.uk/wp-content/uploads/2024/01/Lettter2023-5.png
END:VEVENT
BEGIN:VEVENT
DTSTART;TZID=UTC:20240111T180000
DTEND;TZID=UTC:20240111T190000
DTSTAMP:20260424T173504
CREATED:20240104T234357Z
LAST-MODIFIED:20240104T234357Z
UID:5607-1704996000-1704999600@theovercomers.org.uk
SUMMARY:7 days Prayer and Fasting
DESCRIPTION:
URL:https://theovercomers.org.uk/programmes/7-days-prayer-and-fasting-4/
LOCATION:Church Auditorium\, Crampton Road\, Greenbridge Ind. Estate\, Swindon\, SN3 3JJ\, United Kingdom
ATTACH;FMTTYPE=image/png:https://theovercomers.org.uk/wp-content/uploads/2024/01/Lettter2023-5.png
END:VEVENT
BEGIN:VEVENT
DTSTART;TZID=UTC:20240110T180000
DTEND;TZID=UTC:20240110T190000
DTSTAMP:20260424T173505
CREATED:20240104T234230Z
LAST-MODIFIED:20240104T234230Z
UID:5608-1704909600-1704913200@theovercomers.org.uk
SUMMARY:7 days Prayer and Fasting
DESCRIPTION:
URL:https://theovercomers.org.uk/programmes/7-days-prayer-and-fasting-3/
LOCATION:Church Auditorium\, Crampton Road\, Greenbridge Ind. Estate\, Swindon\, SN3 3JJ\, United Kingdom
ATTACH;FMTTYPE=image/png:https://theovercomers.org.uk/wp-content/uploads/2024/01/Lettter2023-5.png
END:VEVENT
BEGIN:VEVENT
DTSTART;TZID=UTC:20240110T120000
DTEND;TZID=UTC:20240110T123000
DTSTAMP:20260424T173505
CREATED:20231207T215538Z
LAST-MODIFIED:20231207T215538Z
UID:5164-1704888000-1704889800@theovercomers.org.uk
SUMMARY:Prophetic Declarations with Pastor Gabriel
DESCRIPTION:
URL:https://theovercomers.org.uk/programmes/prophetic-declarations-with-pastor-gabriel-10/
LOCATION:Facebook (Pst)\, Facebook Live Stream
ATTACH;FMTTYPE=image/jpeg:https://theovercomers.org.uk/wp-content/uploads/2023/05/30min-prayer1.jpg
END:VEVENT
BEGIN:VEVENT
DTSTART;TZID=UTC:20240109T180000
DTEND;TZID=UTC:20240109T180000
DTSTAMP:20260424T173505
CREATED:20240104T231011Z
LAST-MODIFIED:20240104T234150Z
UID:5609-1704823200-1704823200@theovercomers.org.uk
SUMMARY:7 days Prayer and Fasting
DESCRIPTION:
URL:https://theovercomers.org.uk/programmes/7-days-prayer-and-fasting-2/
LOCATION:Church Auditorium\, Crampton Road\, Greenbridge Ind. Estate\, Swindon\, SN3 3JJ\, United Kingdom
ATTACH;FMTTYPE=image/png:https://theovercomers.org.uk/wp-content/uploads/2024/01/Lettter2023-5.png
END:VEVENT
BEGIN:VEVENT
DTSTART;TZID=UTC:20240108T180000
DTEND;TZID=UTC:20240108T190000
DTSTAMP:20260424T173505
CREATED:20240104T230638Z
LAST-MODIFIED:20240104T234316Z
UID:5602-1704736800-1704740400@theovercomers.org.uk
SUMMARY:7 days Prayer and Fasting
DESCRIPTION:
URL:https://theovercomers.org.uk/programmes/7-days-prayer-and-fasting/
LOCATION:Church Auditorium\, Crampton Road\, Greenbridge Ind. Estate\, Swindon\, SN3 3JJ\, United Kingdom
ATTACH;FMTTYPE=image/png:https://theovercomers.org.uk/wp-content/uploads/2024/01/Lettter2023-5.png
END:VEVENT
BEGIN:VEVENT
DTSTART;TZID=UTC:20240107T103000
DTEND;TZID=UTC:20240107T130000
DTSTAMP:20260424T173505
CREATED:20231105T003718Z
LAST-MODIFIED:20240103T141746Z
UID:5058-1704623400-1704632400@theovercomers.org.uk
SUMMARY:Thanksgiving Service
DESCRIPTION:The first Thanksgiving Service of the year 2024!
URL:https://theovercomers.org.uk/programmes/sunday-service-7/
LOCATION:Church Auditorium\, Crampton Road\, Greenbridge Ind. Estate\, Swindon\, SN3 3JJ\, United Kingdom
ATTACH;FMTTYPE=image/png:https://theovercomers.org.uk/wp-content/uploads/2023/11/thanksgiving-service-Jan24-2.png
END:VEVENT
BEGIN:VEVENT
DTSTART;TZID=UTC:20240103T120000
DTEND;TZID=UTC:20240103T123000
DTSTAMP:20260424T173505
CREATED:20231207T215446Z
LAST-MODIFIED:20231207T215446Z
UID:5435-1704283200-1704285000@theovercomers.org.uk
SUMMARY:Prophetic Declarations with Pastor Gabriel
DESCRIPTION:
URL:https://theovercomers.org.uk/programmes/prophetic-declarations-with-pastor-gabriel-9/
LOCATION:Facebook (Pst)\, Facebook Live Stream
ATTACH;FMTTYPE=image/jpeg:https://theovercomers.org.uk/wp-content/uploads/2023/05/30min-prayer1.jpg
END:VEVENT
BEGIN:VEVENT
DTSTART;TZID=UTC:20231231T220000
DTEND;TZID=UTC:20240101T003000
DTSTAMP:20260424T173505
CREATED:20231207T213702Z
LAST-MODIFIED:20231227T221851Z
UID:5427-1704060000-1704069000@theovercomers.org.uk
SUMMARY:Crossover Service
DESCRIPTION:
URL:https://theovercomers.org.uk/programmes/watch-night-crossover-service/
LOCATION:Church Auditorium\, Crampton Road\, Greenbridge Ind. Estate\, Swindon\, SN3 3JJ\, United Kingdom
ATTACH;FMTTYPE=image/png:https://theovercomers.org.uk/wp-content/uploads/2023/12/crossover2023-3.png
END:VEVENT
BEGIN:VEVENT
DTSTART;TZID=UTC:20231231T103000
DTEND;TZID=UTC:20231231T123000
DTSTAMP:20260424T173505
CREATED:20231105T003800Z
LAST-MODIFIED:20231207T212610Z
UID:5057-1704018600-1704025800@theovercomers.org.uk
SUMMARY:Sunday Service
DESCRIPTION:
URL:https://theovercomers.org.uk/programmes/sunday-service-8/
LOCATION:Church Auditorium\, Crampton Road\, Greenbridge Ind. Estate\, Swindon\, SN3 3JJ\, United Kingdom
ATTACH;FMTTYPE=image/jpeg:https://theovercomers.org.uk/wp-content/uploads/2023/10/edward-c.jpg
END:VEVENT
BEGIN:VEVENT
DTSTART;TZID=UTC:20231228T210000
DTEND;TZID=UTC:20231228T220000
DTSTAMP:20260424T173505
CREATED:20231105T011340Z
LAST-MODIFIED:20231207T212732Z
UID:5126-1703797200-1703800800@theovercomers.org.uk
SUMMARY:Singles Prayer
DESCRIPTION:
URL:https://theovercomers.org.uk/programmes/singles-prayer-9/
LOCATION:Zoom
ATTACH;FMTTYPE=image/png:https://theovercomers.org.uk/wp-content/uploads/2023/11/pic-for-childrens-ministry-691-x-388-px-1.png
END:VEVENT
BEGIN:VEVENT
DTSTART;TZID=UTC:20231227T210000
DTEND;TZID=UTC:20231227T220000
DTSTAMP:20260424T173505
CREATED:20231105T005116Z
LAST-MODIFIED:20231105T005116Z
UID:5084-1703710800-1703714400@theovercomers.org.uk
SUMMARY:Prayer Warriors
DESCRIPTION:
URL:https://theovercomers.org.uk/programmes/prayer-warriors-8/
LOCATION:Church Auditorium\, Crampton Road\, Greenbridge Ind. Estate\, Swindon\, SN3 3JJ\, United Kingdom
ATTACH;FMTTYPE=image/jpeg:https://theovercomers.org.uk/wp-content/uploads/2013/04/slider-4.jpg
END:VEVENT
BEGIN:VEVENT
DTSTART;TZID=UTC:20231227T120000
DTEND;TZID=UTC:20231227T123000
DTSTAMP:20260424T173505
CREATED:20231207T215352Z
LAST-MODIFIED:20231207T215352Z
UID:5433-1703678400-1703680200@theovercomers.org.uk
SUMMARY:Prophetic Declarations with Pastor Gabriel
DESCRIPTION:
URL:https://theovercomers.org.uk/programmes/prophetic-declarations-with-pastor-gabriel-8/
LOCATION:Facebook (Pst)\, Facebook Live Stream
ATTACH;FMTTYPE=image/jpeg:https://theovercomers.org.uk/wp-content/uploads/2023/05/30min-prayer1.jpg
END:VEVENT
BEGIN:VEVENT
DTSTART;TZID=Europe/London:20231225T103000
DTEND;TZID=Europe/London:20231225T123000
DTSTAMP:20260424T173505
CREATED:20231104T001236Z
LAST-MODIFIED:20231223T211158Z
UID:5046-1703500200-1703507400@theovercomers.org.uk
SUMMARY:Christmas Day Service
DESCRIPTION:
URL:https://theovercomers.org.uk/programmes/christmas-day/
ATTACH;FMTTYPE=image/png:https://theovercomers.org.uk/wp-content/uploads/2023/11/10.png
END:VEVENT
BEGIN:VEVENT
DTSTART;TZID=UTC:20231222T180000
DTEND;TZID=UTC:20231222T220000
DTSTAMP:20260424T173505
CREATED:20231123T235619Z
LAST-MODIFIED:20231218T000545Z
UID:5290-1703268000-1703282400@theovercomers.org.uk
SUMMARY:Christmas Carol & Dinner!
DESCRIPTION:Dinner will hold in Hope Hall
URL:https://theovercomers.org.uk/programmes/christmas-carol-dinner/
LOCATION:Church Auditorium\, Crampton Road\, Greenbridge Ind. Estate\, Swindon\, SN3 3JJ\, United Kingdom
ATTACH;FMTTYPE=image/png:https://theovercomers.org.uk/wp-content/uploads/2023/11/Join-us-1920-×-1080px-3.png
END:VEVENT
END:VCALENDAR