BEGIN:VCALENDAR
VERSION:2.0
PRODID:-//Overcomers House Swindon - ECPv6.15.18//NONSGML v1.0//EN
CALSCALE:GREGORIAN
METHOD:PUBLISH
X-WR-CALNAME:Overcomers House Swindon
X-ORIGINAL-URL:https://theovercomers.org.uk
X-WR-CALDESC:Events for Overcomers House Swindon
REFRESH-INTERVAL;VALUE=DURATION:PT1H
X-Robots-Tag:noindex
X-PUBLISHED-TTL:PT1H
BEGIN:VTIMEZONE
TZID:UTC
BEGIN:STANDARD
TZOFFSETFROM:+0000
TZOFFSETTO:+0000
TZNAME:UTC
DTSTART:20230101T000000
END:STANDARD
END:VTIMEZONE
BEGIN:VTIMEZONE
TZID:Europe/London
BEGIN:DAYLIGHT
TZOFFSETFROM:+0000
TZOFFSETTO:+0100
TZNAME:BST
DTSTART:20230326T010000
END:DAYLIGHT
BEGIN:STANDARD
TZOFFSETFROM:+0100
TZOFFSETTO:+0000
TZNAME:GMT
DTSTART:20231029T010000
END:STANDARD
BEGIN:DAYLIGHT
TZOFFSETFROM:+0000
TZOFFSETTO:+0100
TZNAME:BST
DTSTART:20240331T010000
END:DAYLIGHT
BEGIN:STANDARD
TZOFFSETFROM:+0100
TZOFFSETTO:+0000
TZNAME:GMT
DTSTART:20241027T010000
END:STANDARD
BEGIN:DAYLIGHT
TZOFFSETFROM:+0000
TZOFFSETTO:+0100
TZNAME:BST
DTSTART:20250330T010000
END:DAYLIGHT
BEGIN:STANDARD
TZOFFSETFROM:+0100
TZOFFSETTO:+0000
TZNAME:GMT
DTSTART:20251026T010000
END:STANDARD
END:VTIMEZONE
BEGIN:VTIMEZONE
TZID:Europe/Paris
BEGIN:DAYLIGHT
TZOFFSETFROM:+0100
TZOFFSETTO:+0200
TZNAME:CEST
DTSTART:20230326T010000
END:DAYLIGHT
BEGIN:STANDARD
TZOFFSETFROM:+0200
TZOFFSETTO:+0100
TZNAME:CET
DTSTART:20231029T010000
END:STANDARD
BEGIN:DAYLIGHT
TZOFFSETFROM:+0100
TZOFFSETTO:+0200
TZNAME:CEST
DTSTART:20240331T010000
END:DAYLIGHT
BEGIN:STANDARD
TZOFFSETFROM:+0200
TZOFFSETTO:+0100
TZNAME:CET
DTSTART:20241027T010000
END:STANDARD
BEGIN:DAYLIGHT
TZOFFSETFROM:+0100
TZOFFSETTO:+0200
TZNAME:CEST
DTSTART:20250330T010000
END:DAYLIGHT
BEGIN:STANDARD
TZOFFSETFROM:+0200
TZOFFSETTO:+0100
TZNAME:CET
DTSTART:20251026T010000
END:STANDARD
END:VTIMEZONE
BEGIN:VEVENT
DTSTART;TZID=UTC:20241231T220000
DTEND;TZID=UTC:20250101T003000
DTSTAMP:20260420T110017
CREATED:20241229T212217Z
LAST-MODIFIED:20241229T212532Z
UID:6525-1735682400-1735691400@theovercomers.org.uk
SUMMARY:Crossover Service 2024
DESCRIPTION:
URL:https://theovercomers.org.uk/programmes/crossover-service-2024/
LOCATION:Church Auditorium\, Crampton Road\, Greenbridge Ind. Estate\, Swindon\, SN3 3JJ\, United Kingdom
ATTACH;FMTTYPE=image/png:https://theovercomers.org.uk/wp-content/uploads/2024/12/CROSSOVER.png
END:VEVENT
BEGIN:VEVENT
DTSTART;TZID=UTC:20241228T110000
DTEND;TZID=UTC:20241228T120000
DTSTAMP:20260420T110017
CREATED:20241113T182905Z
LAST-MODIFIED:20241205T232640Z
UID:6412-1735383600-1735387200@theovercomers.org.uk
SUMMARY:Praying Mums Forum - Christmas Brunch
DESCRIPTION:
URL:https://theovercomers.org.uk/programmes/praying-mums-forum-christmas-brunch/
LOCATION:Hope Hall
ATTACH;FMTTYPE=image/jpeg:https://theovercomers.org.uk/wp-content/uploads/2024/11/pmfdec.jpg
END:VEVENT
BEGIN:VEVENT
DTSTART;VALUE=DATE:20241226
DTEND;VALUE=DATE:20241227
DTSTAMP:20260420T110017
CREATED:20240915T190759Z
LAST-MODIFIED:20240915T193709Z
UID:6333-1735171200-1735257599@theovercomers.org.uk
SUMMARY:Boxing Day
DESCRIPTION:
URL:https://theovercomers.org.uk/programmes/boxing-day/
END:VEVENT
BEGIN:VEVENT
DTSTART;VALUE=DATE:20241225
DTEND;VALUE=DATE:20241226
DTSTAMP:20260420T110017
CREATED:20240915T190701Z
LAST-MODIFIED:20240915T190701Z
UID:6331-1735084800-1735171199@theovercomers.org.uk
SUMMARY:Christmas Day
DESCRIPTION:
URL:https://theovercomers.org.uk/programmes/christmas-day-2/
END:VEVENT
BEGIN:VEVENT
DTSTART;TZID=UTC:20241222T103000
DTEND;TZID=UTC:20241222T150000
DTSTAMP:20260420T110017
CREATED:20240915T185952Z
LAST-MODIFIED:20241125T223650Z
UID:6329-1734863400-1734879600@theovercomers.org.uk
SUMMARY:Christmas Carol Service & Buffet Lunch🎄🎶🍱
DESCRIPTION:
URL:https://theovercomers.org.uk/programmes/christmas-carol-service%f0%9f%8e%84%f0%9f%8e%b6/
LOCATION:Hope Hall
ATTACH;FMTTYPE=image/png:https://theovercomers.org.uk/wp-content/uploads/2024/09/carol-24-flier.png
END:VEVENT
BEGIN:VEVENT
DTSTART;TZID=UTC:20241215T103000
DTEND;TZID=UTC:20241215T123000
DTSTAMP:20260420T110017
CREATED:20241205T222046Z
LAST-MODIFIED:20241205T222046Z
UID:6511-1734258600-1734265800@theovercomers.org.uk
SUMMARY:Sunday Service
DESCRIPTION:
URL:https://theovercomers.org.uk/programmes/sunday-service-31/
LOCATION:Church Auditorium\, Crampton Road\, Greenbridge Ind. Estate\, Swindon\, SN3 3JJ\, United Kingdom
ATTACH;FMTTYPE=image/png:https://theovercomers.org.uk/wp-content/uploads/2024/01/Sunday-Service.png
END:VEVENT
BEGIN:VEVENT
DTSTART;TZID=UTC:20241208T103000
DTEND;TZID=UTC:20241208T123000
DTSTAMP:20260420T110017
CREATED:20241205T221901Z
LAST-MODIFIED:20241205T221920Z
UID:6509-1733653800-1733661000@theovercomers.org.uk
SUMMARY:Sunday Service
DESCRIPTION:
URL:https://theovercomers.org.uk/programmes/sunday-service-30/
LOCATION:Church Auditorium\, Crampton Road\, Greenbridge Ind. Estate\, Swindon\, SN3 3JJ\, United Kingdom
ATTACH;FMTTYPE=image/png:https://theovercomers.org.uk/wp-content/uploads/2024/01/Sunday-Service.png
END:VEVENT
BEGIN:VEVENT
DTSTART;TZID=Europe/London:20241207T130000
DTEND;TZID=Europe/London:20241207T170000
DTSTAMP:20260420T110017
CREATED:20241113T190326Z
LAST-MODIFIED:20241113T190327Z
UID:6416-1733576400-1733590800@theovercomers.org.uk
SUMMARY:Women's Hangout - Christmas Edition
DESCRIPTION:
URL:https://theovercomers.org.uk/programmes/womens-hangout-christmas-edition/
ATTACH;FMTTYPE=image/png:https://theovercomers.org.uk/wp-content/uploads/2024/11/Womens-hangout-christmas.png
END:VEVENT
BEGIN:VEVENT
DTSTART;TZID=UTC:20241124T103000
DTEND;TZID=UTC:20241124T123000
DTSTAMP:20260420T110017
CREATED:20241113T155951Z
LAST-MODIFIED:20241113T155951Z
UID:6400-1732444200-1732451400@theovercomers.org.uk
SUMMARY:Sunday Service
DESCRIPTION:
URL:https://theovercomers.org.uk/programmes/sunday-service-29/
LOCATION:Church Auditorium\, Crampton Road\, Greenbridge Ind. Estate\, Swindon\, SN3 3JJ\, United Kingdom
ATTACH;FMTTYPE=image/png:https://theovercomers.org.uk/wp-content/uploads/2024/01/Sunday-Service.png
END:VEVENT
BEGIN:VEVENT
DTSTART;TZID=UTC:20241117T103000
DTEND;TZID=UTC:20241117T123000
DTSTAMP:20260420T110017
CREATED:20241113T155106Z
LAST-MODIFIED:20241113T155106Z
UID:6401-1731839400-1731846600@theovercomers.org.uk
SUMMARY:Sunday Service
DESCRIPTION:
URL:https://theovercomers.org.uk/programmes/sunday-service-27/
LOCATION:Church Auditorium\, Crampton Road\, Greenbridge Ind. Estate\, Swindon\, SN3 3JJ\, United Kingdom
ATTACH;FMTTYPE=image/png:https://theovercomers.org.uk/wp-content/uploads/2024/01/Sunday-Service.png
END:VEVENT
BEGIN:VEVENT
DTSTART;TZID=UTC:20241116T110000
DTEND;TZID=UTC:20241116T120000
DTSTAMP:20260420T110017
CREATED:20241113T154246Z
LAST-MODIFIED:20241113T170203Z
UID:6402-1731754800-1731758400@theovercomers.org.uk
SUMMARY:Praying Mums Forum - November
DESCRIPTION:
URL:https://theovercomers.org.uk/programmes/praying-mums-forum-november/
LOCATION:Teen’s Church
ATTACH;FMTTYPE=image/jpeg:https://theovercomers.org.uk/wp-content/uploads/2024/11/WhatsApp-Image-2024-11-13-at-15.14.39.jpeg
END:VEVENT
BEGIN:VEVENT
DTSTART;TZID=UTC:20241110T103000
DTEND;TZID=UTC:20241110T123000
DTSTAMP:20260420T110017
CREATED:20241113T155537Z
LAST-MODIFIED:20241113T155537Z
UID:6406-1731234600-1731241800@theovercomers.org.uk
SUMMARY:Sunday Service
DESCRIPTION:
URL:https://theovercomers.org.uk/programmes/sunday-service-28/
LOCATION:Church Auditorium\, Crampton Road\, Greenbridge Ind. Estate\, Swindon\, SN3 3JJ\, United Kingdom
ATTACH;FMTTYPE=image/png:https://theovercomers.org.uk/wp-content/uploads/2024/01/Sunday-Service.png
END:VEVENT
BEGIN:VEVENT
DTSTART;TZID=UTC:20241103T103000
DTEND;TZID=UTC:20241103T130000
DTSTAMP:20260420T110017
CREATED:20241028T193409Z
LAST-MODIFIED:20241028T194456Z
UID:6386-1730629800-1730638800@theovercomers.org.uk
SUMMARY:November Thanksgiving Service 🎶
DESCRIPTION:
URL:https://theovercomers.org.uk/programmes/november-thanksgiving-service-%f0%9f%8e%b6/
LOCATION:Church Auditorium\, Crampton Road\, Greenbridge Ind. Estate\, Swindon\, SN3 3JJ\, United Kingdom
ATTACH;FMTTYPE=image/jpeg:https://theovercomers.org.uk/wp-content/uploads/2024/10/WhatsApp-Image-2024-10-23-at-22.54.55.jpeg
END:VEVENT
BEGIN:VEVENT
DTSTART;TZID=UTC:20241101T060000
DTEND;TZID=UTC:20241101T070000
DTSTAMP:20260420T110017
CREATED:20240915T164207Z
LAST-MODIFIED:20240915T164207Z
UID:6311-1730440800-1730444400@theovercomers.org.uk
SUMMARY:Begin the month with Jesus!
DESCRIPTION:
URL:https://theovercomers.org.uk/programmes/begin-the-month-with-jesus-7/
LOCATION:Church Auditorium\, Crampton Road\, Greenbridge Ind. Estate\, Swindon\, SN3 3JJ\, United Kingdom
ATTACH;FMTTYPE=image/jpeg:https://theovercomers.org.uk/wp-content/uploads/2024/09/WhatsApp-Image-2024-07-31-at-21.34.04.jpeg
END:VEVENT
BEGIN:VEVENT
DTSTART;TZID=Europe/London:20241018T170000
DTEND;TZID=Europe/London:20241020T103000
DTSTAMP:20260420T110017
CREATED:20240915T161411Z
LAST-MODIFIED:20241003T205217Z
UID:6307-1729270800-1729420200@theovercomers.org.uk
SUMMARY:Church 17th Anniversary
DESCRIPTION:We’re celebrating the goodness of God for the past 17 years! \nMark your calendars please for the three-day programme!
URL:https://theovercomers.org.uk/programmes/church-17th-anniversary/
LOCATION:Church Auditorium\, Crampton Road\, Greenbridge Ind. Estate\, Swindon\, SN3 3JJ\, United Kingdom
ATTACH;FMTTYPE=image/jpeg:https://theovercomers.org.uk/wp-content/uploads/2024/09/WhatsApp-Image-2024-10-02-at-21.22.24.jpeg
END:VEVENT
BEGIN:VEVENT
DTSTART;TZID=UTC:20241006T103000
DTEND;TZID=UTC:20241006T130000
DTSTAMP:20260420T110017
CREATED:20240806T033954Z
LAST-MODIFIED:20241003T212851Z
UID:6191-1728210600-1728219600@theovercomers.org.uk
SUMMARY:October Thanksgiving Service 🥁
DESCRIPTION:
URL:https://theovercomers.org.uk/programmes/october-thanksgiving-service-%f0%9f%a5%81/
LOCATION:Church Auditorium\, Crampton Road\, Greenbridge Ind. Estate\, Swindon\, SN3 3JJ\, United Kingdom
ATTACH;FMTTYPE=image/jpeg:https://theovercomers.org.uk/wp-content/uploads/2024/08/WhatsApp-Image-2024-09-26-at-21.17.19.jpeg
END:VEVENT
BEGIN:VEVENT
DTSTART;TZID=UTC:20241001T060000
DTEND;TZID=UTC:20241001T070000
DTSTAMP:20260420T110017
CREATED:20240915T164028Z
LAST-MODIFIED:20240915T164028Z
UID:6312-1727762400-1727766000@theovercomers.org.uk
SUMMARY:Begin the month with Jesus!
DESCRIPTION:
URL:https://theovercomers.org.uk/programmes/begin-the-month-with-jesus-6/
LOCATION:Church Auditorium\, Crampton Road\, Greenbridge Ind. Estate\, Swindon\, SN3 3JJ\, United Kingdom
ATTACH;FMTTYPE=image/jpeg:https://theovercomers.org.uk/wp-content/uploads/2024/09/WhatsApp-Image-2024-07-31-at-21.34.04.jpeg
END:VEVENT
BEGIN:VEVENT
DTSTART;TZID=UTC:20240929T103000
DTEND;TZID=UTC:20240929T123000
DTSTAMP:20260420T110017
CREATED:20240806T033736Z
LAST-MODIFIED:20240806T033736Z
UID:6182-1727605800-1727613000@theovercomers.org.uk
SUMMARY:Sunday Service
DESCRIPTION:
URL:https://theovercomers.org.uk/programmes/sunday-service-26/
LOCATION:Church Auditorium\, Crampton Road\, Greenbridge Ind. Estate\, Swindon\, SN3 3JJ\, United Kingdom
ATTACH;FMTTYPE=image/png:https://theovercomers.org.uk/wp-content/uploads/2024/02/1.png
END:VEVENT
BEGIN:VEVENT
DTSTART;TZID=UTC:20240927T220000
DTEND;TZID=UTC:20240928T010000
DTSTAMP:20260420T110017
CREATED:20240927T141856Z
LAST-MODIFIED:20240927T141856Z
UID:6040-1727474400-1727485200@theovercomers.org.uk
SUMMARY:Power Night! - September 2024
DESCRIPTION:
URL:https://theovercomers.org.uk/programmes/power-night-september-2024/
LOCATION:Church Auditorium\, Crampton Road\, Greenbridge Ind. Estate\, Swindon\, SN3 3JJ\, United Kingdom
ATTACH;FMTTYPE=image/png:https://theovercomers.org.uk/wp-content/uploads/2024/05/Powernight-Sept.png
END:VEVENT
BEGIN:VEVENT
DTSTART;TZID=UTC:20240922T103000
DTEND;TZID=UTC:20240922T123000
DTSTAMP:20260420T110017
CREATED:20240806T033656Z
LAST-MODIFIED:20240806T033656Z
UID:6184-1727001000-1727008200@theovercomers.org.uk
SUMMARY:Sunday Service
DESCRIPTION:
URL:https://theovercomers.org.uk/programmes/sunday-service-25/
LOCATION:Church Auditorium\, Crampton Road\, Greenbridge Ind. Estate\, Swindon\, SN3 3JJ\, United Kingdom
ATTACH;FMTTYPE=image/png:https://theovercomers.org.uk/wp-content/uploads/2024/02/1.png
END:VEVENT
BEGIN:VEVENT
DTSTART;TZID=Europe/Paris:20240921T110000
DTEND;TZID=Europe/Paris:20240921T140000
DTSTAMP:20260420T110017
CREATED:20240915T165033Z
LAST-MODIFIED:20240915T175056Z
UID:6319-1726916400-1726927200@theovercomers.org.uk
SUMMARY:Men's Hangout
DESCRIPTION:
URL:https://theovercomers.org.uk/programmes/mens-weekend/
LOCATION:Church Auditorium\, Crampton Road\, Greenbridge Ind. Estate\, Swindon\, SN3 3JJ\, United Kingdom
ATTACH;FMTTYPE=image/jpeg:https://theovercomers.org.uk/wp-content/uploads/2023/10/Mens-Min.jpg
END:VEVENT
BEGIN:VEVENT
DTSTART;TZID=UTC:20240915T103000
DTEND;TZID=UTC:20240915T130000
DTSTAMP:20260420T110017
CREATED:20240806T034322Z
LAST-MODIFIED:20240830T113537Z
UID:6193-1726396200-1726405200@theovercomers.org.uk
SUMMARY:Sunday Service
DESCRIPTION:
URL:https://theovercomers.org.uk/programmes/dedication-service-with-pastor-e-a-adeboye/
LOCATION:Church Auditorium\, Crampton Road\, Greenbridge Ind. Estate\, Swindon\, SN3 3JJ\, United Kingdom
ATTACH;FMTTYPE=image/png:https://theovercomers.org.uk/wp-content/uploads/2024/01/Sunday-Service.png
END:VEVENT
BEGIN:VEVENT
DTSTART;TZID=UTC:20240908T103000
DTEND;TZID=UTC:20240908T123000
DTSTAMP:20260420T110017
CREATED:20240806T033625Z
LAST-MODIFIED:20240806T033625Z
UID:6183-1725791400-1725798600@theovercomers.org.uk
SUMMARY:Sunday Service
DESCRIPTION:
URL:https://theovercomers.org.uk/programmes/sunday-service-24/
LOCATION:Church Auditorium\, Crampton Road\, Greenbridge Ind. Estate\, Swindon\, SN3 3JJ\, United Kingdom
ATTACH;FMTTYPE=image/png:https://theovercomers.org.uk/wp-content/uploads/2024/02/1.png
END:VEVENT
BEGIN:VEVENT
DTSTART;TZID=UTC:20240901T103000
DTEND;TZID=UTC:20240901T130000
DTSTAMP:20260420T110017
CREATED:20240806T033826Z
LAST-MODIFIED:20240830T111908Z
UID:6188-1725186600-1725195600@theovercomers.org.uk
SUMMARY:Back to School - Prayers and Thanksgiving Service 🙌🏾
DESCRIPTION:
URL:https://theovercomers.org.uk/programmes/thanksgiving-service-6/
LOCATION:Church Auditorium\, Crampton Road\, Greenbridge Ind. Estate\, Swindon\, SN3 3JJ\, United Kingdom
ATTACH;FMTTYPE=image/png:https://theovercomers.org.uk/wp-content/uploads/2024/08/BCK2SCH1-Instagram-Post.png
END:VEVENT
BEGIN:VEVENT
DTSTART;TZID=UTC:20240825T103000
DTEND;TZID=UTC:20240825T123000
DTSTAMP:20260420T110017
CREATED:20240806T033450Z
LAST-MODIFIED:20240806T033450Z
UID:6180-1724581800-1724589000@theovercomers.org.uk
SUMMARY:Sunday Service
DESCRIPTION:
URL:https://theovercomers.org.uk/programmes/sunday-service-23/
LOCATION:Church Auditorium\, Crampton Road\, Greenbridge Ind. Estate\, Swindon\, SN3 3JJ\, United Kingdom
ATTACH;FMTTYPE=image/png:https://theovercomers.org.uk/wp-content/uploads/2024/02/1.png
END:VEVENT
BEGIN:VEVENT
DTSTART;TZID=UTC:20240824T110000
DTEND;TZID=UTC:20240824T120000
DTSTAMP:20260420T110017
CREATED:20240814T150446Z
LAST-MODIFIED:20240814T150446Z
UID:6217-1724497200-1724500800@theovercomers.org.uk
SUMMARY:Praying Mums Forum - August
DESCRIPTION:
URL:https://theovercomers.org.uk/programmes/praying-mums-forum-august/
LOCATION:Hope Hall
ATTACH;FMTTYPE=image/jpeg:https://theovercomers.org.uk/wp-content/uploads/2024/08/WhatsApp-Image-2024-08-14-at-15.44.18.jpeg
END:VEVENT
BEGIN:VEVENT
DTSTART;TZID=UTC:20240818T103000
DTEND;TZID=UTC:20240818T123000
DTSTAMP:20260420T110017
CREATED:20240806T033258Z
LAST-MODIFIED:20240806T033413Z
UID:6109-1723977000-1723984200@theovercomers.org.uk
SUMMARY:Sunday Service
DESCRIPTION:
URL:https://theovercomers.org.uk/programmes/sunday-service-22/
LOCATION:Church Auditorium\, Crampton Road\, Greenbridge Ind. Estate\, Swindon\, SN3 3JJ\, United Kingdom
ATTACH;FMTTYPE=image/png:https://theovercomers.org.uk/wp-content/uploads/2024/02/1.png
END:VEVENT
BEGIN:VEVENT
DTSTART;TZID=UTC:20240811T103000
DTEND;TZID=UTC:20240811T123000
DTSTAMP:20260420T110017
CREATED:20240712T133551Z
LAST-MODIFIED:20240712T133805Z
UID:6112-1723372200-1723379400@theovercomers.org.uk
SUMMARY:Sunday Service
DESCRIPTION:
URL:https://theovercomers.org.uk/programmes/sunday-service-21/
LOCATION:Church Auditorium\, Crampton Road\, Greenbridge Ind. Estate\, Swindon\, SN3 3JJ\, United Kingdom
ATTACH;FMTTYPE=image/png:https://theovercomers.org.uk/wp-content/uploads/2024/02/1.png
END:VEVENT
BEGIN:VEVENT
DTSTART;TZID=UTC:20240807T180000
DTEND;TZID=UTC:20240807T193000
DTSTAMP:20260420T110017
CREATED:20240806T023332Z
LAST-MODIFIED:20240806T023332Z
UID:6155-1723053600-1723059000@theovercomers.org.uk
SUMMARY:Monthly Prayer and Fasting
DESCRIPTION:
URL:https://theovercomers.org.uk/programmes/monthly-prayer-and-fasting-2/
LOCATION:Church Auditorium\, Crampton Road\, Greenbridge Ind. Estate\, Swindon\, SN3 3JJ\, United Kingdom
ATTACH;FMTTYPE=image/png:https://theovercomers.org.uk/wp-content/uploads/2024/08/monthly-prayer-and-fasting-4.png
END:VEVENT
BEGIN:VEVENT
DTSTART;TZID=UTC:20240804T103000
DTEND;TZID=UTC:20240804T130000
DTSTAMP:20260420T110017
CREATED:20240525T195700Z
LAST-MODIFIED:20240712T141614Z
UID:5767-1722767400-1722776400@theovercomers.org.uk
SUMMARY:Thanksgiving Service
DESCRIPTION:
URL:https://theovercomers.org.uk/programmes/thanksgiving-service-5/
LOCATION:Church Auditorium\, Crampton Road\, Greenbridge Ind. Estate\, Swindon\, SN3 3JJ\, United Kingdom
ATTACH;FMTTYPE=image/jpeg:https://theovercomers.org.uk/wp-content/uploads/2023/10/Thankdgiving1.jpg
END:VEVENT
END:VCALENDAR