BEGIN:VCALENDAR
VERSION:2.0
PRODID:-//Overcomers House Swindon - ECPv6.15.18//NONSGML v1.0//EN
CALSCALE:GREGORIAN
METHOD:PUBLISH
X-WR-CALNAME:Overcomers House Swindon
X-ORIGINAL-URL:https://theovercomers.org.uk
X-WR-CALDESC:Events for Overcomers House Swindon
REFRESH-INTERVAL;VALUE=DURATION:PT1H
X-Robots-Tag:noindex
X-PUBLISHED-TTL:PT1H
BEGIN:VTIMEZONE
TZID:UTC
BEGIN:STANDARD
TZOFFSETFROM:+0000
TZOFFSETTO:+0000
TZNAME:UTC
DTSTART:20220101T000000
END:STANDARD
END:VTIMEZONE
BEGIN:VTIMEZONE
TZID:Europe/Paris
BEGIN:DAYLIGHT
TZOFFSETFROM:+0100
TZOFFSETTO:+0200
TZNAME:CEST
DTSTART:20220327T010000
END:DAYLIGHT
BEGIN:STANDARD
TZOFFSETFROM:+0200
TZOFFSETTO:+0100
TZNAME:CET
DTSTART:20221030T010000
END:STANDARD
BEGIN:DAYLIGHT
TZOFFSETFROM:+0100
TZOFFSETTO:+0200
TZNAME:CEST
DTSTART:20230326T010000
END:DAYLIGHT
BEGIN:STANDARD
TZOFFSETFROM:+0200
TZOFFSETTO:+0100
TZNAME:CET
DTSTART:20231029T010000
END:STANDARD
BEGIN:DAYLIGHT
TZOFFSETFROM:+0100
TZOFFSETTO:+0200
TZNAME:CEST
DTSTART:20240331T010000
END:DAYLIGHT
BEGIN:STANDARD
TZOFFSETFROM:+0200
TZOFFSETTO:+0100
TZNAME:CET
DTSTART:20241027T010000
END:STANDARD
END:VTIMEZONE
BEGIN:VEVENT
DTSTART;TZID=UTC:20231221T210000
DTEND;TZID=UTC:20231221T220000
DTSTAMP:20260424T145733
CREATED:20231105T011313Z
LAST-MODIFIED:20231207T213414Z
UID:5130-1703192400-1703196000@theovercomers.org.uk
SUMMARY:Singles Prayer
DESCRIPTION:
URL:https://theovercomers.org.uk/programmes/singles-prayer-8/
LOCATION:Zoom
ATTACH;FMTTYPE=image/png:https://theovercomers.org.uk/wp-content/uploads/2023/11/pic-for-childrens-ministry-691-x-388-px-1.png
END:VEVENT
BEGIN:VEVENT
DTSTART;TZID=UTC:20231220T210000
DTEND;TZID=UTC:20231220T220000
DTSTAMP:20260424T145733
CREATED:20231105T005040Z
LAST-MODIFIED:20231105T005040Z
UID:5080-1703106000-1703109600@theovercomers.org.uk
SUMMARY:Prayer Warriors
DESCRIPTION:
URL:https://theovercomers.org.uk/programmes/prayer-warriors-7/
LOCATION:Church Auditorium\, Crampton Road\, Greenbridge Ind. Estate\, Swindon\, SN3 3JJ\, United Kingdom
ATTACH;FMTTYPE=image/jpeg:https://theovercomers.org.uk/wp-content/uploads/2013/04/slider-4.jpg
END:VEVENT
BEGIN:VEVENT
DTSTART;TZID=UTC:20231220T180000
DTEND;TZID=UTC:20231220T193000
DTSTAMP:20260424T145733
CREATED:20231105T005203Z
LAST-MODIFIED:20231105T005203Z
UID:5087-1703095200-1703100600@theovercomers.org.uk
SUMMARY:Bible study
DESCRIPTION:
URL:https://theovercomers.org.uk/programmes/bible-study-7/
LOCATION:Church Auditorium\, Crampton Road\, Greenbridge Ind. Estate\, Swindon\, SN3 3JJ\, United Kingdom
ATTACH;FMTTYPE=image/jpeg:https://theovercomers.org.uk/wp-content/uploads/2023/10/Bible-study.jpg
END:VEVENT
BEGIN:VEVENT
DTSTART;TZID=UTC:20231220T120000
DTEND;TZID=UTC:20231220T123000
DTSTAMP:20260424T145733
CREATED:20231207T215126Z
LAST-MODIFIED:20231207T215126Z
UID:5431-1703073600-1703075400@theovercomers.org.uk
SUMMARY:Prophetic Declarations with Pastor Gabriel
DESCRIPTION:
URL:https://theovercomers.org.uk/programmes/prophetic-declarations-with-pastor-gabriel-7/
LOCATION:Facebook (Pst)\, Facebook Live Stream
ATTACH;FMTTYPE=image/jpeg:https://theovercomers.org.uk/wp-content/uploads/2023/05/30min-prayer1.jpg
END:VEVENT
BEGIN:VEVENT
DTSTART;TZID=UTC:20231219T210000
DTEND;TZID=UTC:20231219T220000
DTSTAMP:20260424T145733
CREATED:20231105T010516Z
LAST-MODIFIED:20231105T010516Z
UID:5107-1703019600-1703023200@theovercomers.org.uk
SUMMARY:Women's prayer
DESCRIPTION:
URL:https://theovercomers.org.uk/programmes/womens-prayer-8/
LOCATION:Zoom
ATTACH;FMTTYPE=image/jpeg:https://theovercomers.org.uk/wp-content/uploads/2023/10/Praying-Mum.jpg
END:VEVENT
BEGIN:VEVENT
DTSTART;TZID=UTC:20231217T103000
DTEND;TZID=UTC:20231217T123000
DTSTAMP:20260424T145733
CREATED:20231105T003634Z
LAST-MODIFIED:20231207T213149Z
UID:5059-1702809000-1702816200@theovercomers.org.uk
SUMMARY:Sunday Service
DESCRIPTION:
URL:https://theovercomers.org.uk/programmes/sunday-service-6/
LOCATION:Church Auditorium\, Crampton Road\, Greenbridge Ind. Estate\, Swindon\, SN3 3JJ\, United Kingdom
ATTACH;FMTTYPE=image/jpeg:https://theovercomers.org.uk/wp-content/uploads/2023/10/edward-c.jpg
END:VEVENT
BEGIN:VEVENT
DTSTART;TZID=UTC:20231216T110000
DTEND;TZID=UTC:20231216T120000
DTSTAMP:20260424T145733
CREATED:20231124T174525Z
LAST-MODIFIED:20231124T174525Z
UID:5293-1702724400-1702728000@theovercomers.org.uk
SUMMARY:Praying Mums Forum - Christmas Special
DESCRIPTION:
URL:https://theovercomers.org.uk/programmes/praying-mums-forum-christmas-special/
LOCATION:Hope Hall
ATTACH;FMTTYPE=image/jpeg:https://theovercomers.org.uk/wp-content/uploads/2023/11/WhatsApp-Image-2023-11-24-at-11.54.14-AM.jpeg
END:VEVENT
BEGIN:VEVENT
DTSTART;TZID=UTC:20231214T210000
DTEND;TZID=UTC:20231214T220000
DTSTAMP:20260424T145733
CREATED:20231105T011149Z
LAST-MODIFIED:20231207T213303Z
UID:5116-1702587600-1702591200@theovercomers.org.uk
SUMMARY:Singles Prayer
DESCRIPTION:
URL:https://theovercomers.org.uk/programmes/singles-prayer-7/
LOCATION:Zoom
ATTACH;FMTTYPE=image/png:https://theovercomers.org.uk/wp-content/uploads/2023/11/pic-for-childrens-ministry-691-x-388-px-1.png
END:VEVENT
BEGIN:VEVENT
DTSTART;TZID=UTC:20231213T210000
DTEND;TZID=UTC:20231213T220000
DTSTAMP:20260424T145733
CREATED:20231105T004943Z
LAST-MODIFIED:20231105T004943Z
UID:5081-1702501200-1702504800@theovercomers.org.uk
SUMMARY:Prayer Warriors
DESCRIPTION:
URL:https://theovercomers.org.uk/programmes/prayer-warriors-6/
LOCATION:Church Auditorium\, Crampton Road\, Greenbridge Ind. Estate\, Swindon\, SN3 3JJ\, United Kingdom
ATTACH;FMTTYPE=image/jpeg:https://theovercomers.org.uk/wp-content/uploads/2013/04/slider-4.jpg
END:VEVENT
BEGIN:VEVENT
DTSTART;TZID=UTC:20231213T180000
DTEND;TZID=UTC:20231213T193000
DTSTAMP:20260424T145733
CREATED:20231105T004610Z
LAST-MODIFIED:20231105T004610Z
UID:5063-1702490400-1702495800@theovercomers.org.uk
SUMMARY:Bible study
DESCRIPTION:
URL:https://theovercomers.org.uk/programmes/bible-study-6/
LOCATION:Church Auditorium\, Crampton Road\, Greenbridge Ind. Estate\, Swindon\, SN3 3JJ\, United Kingdom
ATTACH;FMTTYPE=image/jpeg:https://theovercomers.org.uk/wp-content/uploads/2023/10/Bible-study.jpg
END:VEVENT
BEGIN:VEVENT
DTSTART;TZID=UTC:20231213T120000
DTEND;TZID=UTC:20231213T123000
DTSTAMP:20260424T145733
CREATED:20231207T215013Z
LAST-MODIFIED:20231207T215013Z
UID:5429-1702468800-1702470600@theovercomers.org.uk
SUMMARY:Prophetic Declarations with Pastor Gabriel
DESCRIPTION:
URL:https://theovercomers.org.uk/programmes/prophetic-declarations-with-pastor-gabriel-6/
LOCATION:Facebook (Pst)\, Facebook Live Stream
ATTACH;FMTTYPE=image/jpeg:https://theovercomers.org.uk/wp-content/uploads/2023/05/30min-prayer1.jpg
END:VEVENT
BEGIN:VEVENT
DTSTART;TZID=UTC:20231212T210000
DTEND;TZID=UTC:20231212T220000
DTSTAMP:20260424T145733
CREATED:20231105T010450Z
LAST-MODIFIED:20231105T010450Z
UID:5108-1702414800-1702418400@theovercomers.org.uk
SUMMARY:Women's prayer
DESCRIPTION:
URL:https://theovercomers.org.uk/programmes/womens-prayer-7/
LOCATION:Zoom
ATTACH;FMTTYPE=image/jpeg:https://theovercomers.org.uk/wp-content/uploads/2023/10/Praying-Mum.jpg
END:VEVENT
BEGIN:VEVENT
DTSTART;TZID=UTC:20231210T103000
DTEND;TZID=UTC:20231210T123000
DTSTAMP:20260424T145733
CREATED:20231105T003537Z
LAST-MODIFIED:20231205T195610Z
UID:5055-1702204200-1702211400@theovercomers.org.uk
SUMMARY:Family Sunday
DESCRIPTION:
URL:https://theovercomers.org.uk/programmes/sunday-service-5/
LOCATION:Church Auditorium\, Crampton Road\, Greenbridge Ind. Estate\, Swindon\, SN3 3JJ\, United Kingdom
ATTACH;FMTTYPE=image/png:https://theovercomers.org.uk/wp-content/uploads/2023/11/Prayer-Chain-Family-Sunday-.png
END:VEVENT
BEGIN:VEVENT
DTSTART;TZID=UTC:20231207T210000
DTEND;TZID=UTC:20231207T220000
DTSTAMP:20260424T145733
CREATED:20231105T011103Z
LAST-MODIFIED:20231207T214121Z
UID:5117-1701982800-1701986400@theovercomers.org.uk
SUMMARY:Singles Prayer
DESCRIPTION:
URL:https://theovercomers.org.uk/programmes/singles-prayer-6/
LOCATION:Zoom
ATTACH;FMTTYPE=image/png:https://theovercomers.org.uk/wp-content/uploads/2023/11/pic-for-childrens-ministry-691-x-388-px-1.png
END:VEVENT
BEGIN:VEVENT
DTSTART;TZID=UTC:20231206T210000
DTEND;TZID=UTC:20231206T220000
DTSTAMP:20260424T145733
CREATED:20231105T003926Z
LAST-MODIFIED:20231105T003926Z
UID:5068-1701896400-1701900000@theovercomers.org.uk
SUMMARY:Prayer Warriors
DESCRIPTION:
URL:https://theovercomers.org.uk/programmes/prayer-warriors-5/
LOCATION:Church Auditorium\, Crampton Road\, Greenbridge Ind. Estate\, Swindon\, SN3 3JJ\, United Kingdom
ATTACH;FMTTYPE=image/jpeg:https://theovercomers.org.uk/wp-content/uploads/2013/04/slider-4.jpg
END:VEVENT
BEGIN:VEVENT
DTSTART;TZID=UTC:20231206T180000
DTEND;TZID=UTC:20231206T193000
DTSTAMP:20260424T145733
CREATED:20231105T004428Z
LAST-MODIFIED:20231205T153142Z
UID:5066-1701885600-1701891000@theovercomers.org.uk
SUMMARY:Monthly Prayer and Fasting
DESCRIPTION:
URL:https://theovercomers.org.uk/programmes/bible-study-5/
LOCATION:Church Auditorium\, Crampton Road\, Greenbridge Ind. Estate\, Swindon\, SN3 3JJ\, United Kingdom
ATTACH;FMTTYPE=image/png:https://theovercomers.org.uk/wp-content/uploads/2023/11/the-FINAL-OH-announcements-DECK-Instagram-Post-Square-16.png
END:VEVENT
BEGIN:VEVENT
DTSTART;TZID=UTC:20231205T210000
DTEND;TZID=UTC:20231205T220000
DTSTAMP:20260424T145733
CREATED:20231105T010423Z
LAST-MODIFIED:20231105T010423Z
UID:5109-1701810000-1701813600@theovercomers.org.uk
SUMMARY:Women's prayer
DESCRIPTION:
URL:https://theovercomers.org.uk/programmes/womens-prayer-6/
LOCATION:Zoom
ATTACH;FMTTYPE=image/jpeg:https://theovercomers.org.uk/wp-content/uploads/2023/10/Praying-Mum.jpg
END:VEVENT
BEGIN:VEVENT
DTSTART;TZID=UTC:20231203T103000
DTEND;TZID=UTC:20231203T130000
DTSTAMP:20260424T145733
CREATED:20231103T234524Z
LAST-MODIFIED:20231111T123827Z
UID:5029-1701599400-1701608400@theovercomers.org.uk
SUMMARY:Thanksgiving Sunday with Pastor Wale Adenuga
DESCRIPTION:
URL:https://theovercomers.org.uk/programmes/thanksgiving-sunday-2/
LOCATION:Church Auditorium\, Crampton Road\, Greenbridge Ind. Estate\, Swindon\, SN3 3JJ\, United Kingdom
ATTACH;FMTTYPE=image/jpeg:https://theovercomers.org.uk/wp-content/uploads/2023/11/WhatsApp-Image-2023-11-10-at-10.35.45-AM.jpeg
END:VEVENT
BEGIN:VEVENT
DTSTART;TZID=UTC:20231202T170000
DTEND;TZID=UTC:20231202T200000
DTSTAMP:20260424T145733
CREATED:20231105T002425Z
LAST-MODIFIED:20231117T144537Z
UID:5048-1701536400-1701547200@theovercomers.org.uk
SUMMARY:Praise and Thanksgiving Weekend with Pastor Wale Adenuga
DESCRIPTION:
URL:https://theovercomers.org.uk/programmes/praise-and-thanksgiving-weekend/
LOCATION:Church Auditorium\, Crampton Road\, Greenbridge Ind. Estate\, Swindon\, SN3 3JJ\, United Kingdom
ATTACH;FMTTYPE=image/jpeg:https://theovercomers.org.uk/wp-content/uploads/2023/11/WhatsApp-Image-2023-11-10-at-10.35.45-AM.jpeg
END:VEVENT
BEGIN:VEVENT
DTSTART;TZID=UTC:20231201T060000
DTEND;TZID=UTC:20231201T070000
DTSTAMP:20260424T145733
CREATED:20231104T000755Z
LAST-MODIFIED:20231130T105851Z
UID:5037-1701410400-1701414000@theovercomers.org.uk
SUMMARY:Begin the month with Jesus!
DESCRIPTION:
URL:https://theovercomers.org.uk/programmes/begin-the-month-with-jesus/
LOCATION:Church Auditorium\, Crampton Road\, Greenbridge Ind. Estate\, Swindon\, SN3 3JJ\, United Kingdom
ATTACH;FMTTYPE=image/png:https://theovercomers.org.uk/wp-content/uploads/2023/11/Begin-the-month-Instagram-Post-Square-1.png
END:VEVENT
BEGIN:VEVENT
DTSTART;TZID=UTC:20231130T210000
DTEND;TZID=UTC:20231130T220000
DTSTAMP:20260424T145733
CREATED:20231105T011031Z
LAST-MODIFIED:20231207T214255Z
UID:5118-1701378000-1701381600@theovercomers.org.uk
SUMMARY:Singles Prayer
DESCRIPTION:
URL:https://theovercomers.org.uk/programmes/singles-prayer-5/
LOCATION:Zoom
ATTACH;FMTTYPE=image/png:https://theovercomers.org.uk/wp-content/uploads/2023/11/pic-for-childrens-ministry-691-x-388-px-1.png
END:VEVENT
BEGIN:VEVENT
DTSTART;TZID=UTC:20231129T210000
DTEND;TZID=UTC:20231129T220000
DTSTAMP:20260424T145733
CREATED:20231104T000954Z
LAST-MODIFIED:20231104T000954Z
UID:5043-1701291600-1701295200@theovercomers.org.uk
SUMMARY:Prayer Warriors
DESCRIPTION:
URL:https://theovercomers.org.uk/programmes/prayer-warriors-4/
LOCATION:Church Auditorium\, Crampton Road\, Greenbridge Ind. Estate\, Swindon\, SN3 3JJ\, United Kingdom
ATTACH;FMTTYPE=image/jpeg:https://theovercomers.org.uk/wp-content/uploads/2013/04/slider-4.jpg
END:VEVENT
BEGIN:VEVENT
DTSTART;TZID=UTC:20231129T180000
DTEND;TZID=UTC:20231129T193000
DTSTAMP:20260424T145733
CREATED:20231104T000648Z
LAST-MODIFIED:20231104T000648Z
UID:5033-1701280800-1701286200@theovercomers.org.uk
SUMMARY:Bible study
DESCRIPTION:
URL:https://theovercomers.org.uk/programmes/bible-study-4/
LOCATION:Church Auditorium\, Crampton Road\, Greenbridge Ind. Estate\, Swindon\, SN3 3JJ\, United Kingdom
ATTACH;FMTTYPE=image/jpeg:https://theovercomers.org.uk/wp-content/uploads/2023/10/Bible-study.jpg
END:VEVENT
BEGIN:VEVENT
DTSTART;TZID=UTC:20231129T120000
DTEND;TZID=UTC:20231129T123000
DTSTAMP:20260424T145733
CREATED:20231108T001137Z
LAST-MODIFIED:20231108T001208Z
UID:5165-1701259200-1701261000@theovercomers.org.uk
SUMMARY:Prophetic Declarations with Pastor Gabriel
DESCRIPTION:
URL:https://theovercomers.org.uk/programmes/prophetic-declarations-with-pastor-gabriel-5/
LOCATION:Facebook (Pst)\, Facebook Live Stream
ATTACH;FMTTYPE=image/jpeg:https://theovercomers.org.uk/wp-content/uploads/2023/05/30min-prayer1.jpg
END:VEVENT
BEGIN:VEVENT
DTSTART;TZID=UTC:20231128T210000
DTEND;TZID=UTC:20231128T220000
DTSTAMP:20260424T145733
CREATED:20231105T010108Z
LAST-MODIFIED:20231105T010325Z
UID:5103-1701205200-1701208800@theovercomers.org.uk
SUMMARY:Women's prayer
DESCRIPTION:
URL:https://theovercomers.org.uk/programmes/womens-prayer-5/
LOCATION:Zoom
ATTACH;FMTTYPE=image/jpeg:https://theovercomers.org.uk/wp-content/uploads/2023/10/Praying-Mum.jpg
END:VEVENT
BEGIN:VEVENT
DTSTART;TZID=Europe/Paris:20231127T210000
DTEND;TZID=Europe/Paris:20231127T220000
DTSTAMP:20260424T145733
CREATED:20231105T005609Z
LAST-MODIFIED:20231105T005609Z
UID:5097-1701118800-1701122400@theovercomers.org.uk
SUMMARY:Men's Prayer
DESCRIPTION:
URL:https://theovercomers.org.uk/programmes/mens-prayer-5/
LOCATION:Zoom
ATTACH;FMTTYPE=image/jpeg:https://theovercomers.org.uk/wp-content/uploads/2023/10/Mens-Min.jpg
END:VEVENT
BEGIN:VEVENT
DTSTART;TZID=UTC:20231126T110000
DTEND;TZID=UTC:20231126T123000
DTSTAMP:20260424T145733
CREATED:20231103T234100Z
LAST-MODIFIED:20231124T150409Z
UID:5015-1700996400-1701001800@theovercomers.org.uk
SUMMARY:Sunday Service
DESCRIPTION:
URL:https://theovercomers.org.uk/programmes/sunday-service-4/
LOCATION:Church Auditorium\, Crampton Road\, Greenbridge Ind. Estate\, Swindon\, SN3 3JJ\, United Kingdom
ATTACH;FMTTYPE=image/jpeg:https://theovercomers.org.uk/wp-content/uploads/2023/11/WhatsApp-Image-2023-11-21-at-1.31.07-PM-1.jpeg
END:VEVENT
BEGIN:VEVENT
DTSTART;TZID=UTC:20231123T210000
DTEND;TZID=UTC:20231123T220000
DTSTAMP:20260424T145733
CREATED:20231105T010939Z
LAST-MODIFIED:20231105T010939Z
UID:5119-1700773200-1700776800@theovercomers.org.uk
SUMMARY:Singles Prayer
DESCRIPTION:
URL:https://theovercomers.org.uk/programmes/singles-prayer-4/
LOCATION:Zoom
ATTACH;FMTTYPE=image/jpeg:https://theovercomers.org.uk/wp-content/uploads/2023/10/single-prayer.jpg
END:VEVENT
BEGIN:VEVENT
DTSTART;TZID=UTC:20231122T210000
DTEND;TZID=UTC:20231122T220000
DTSTAMP:20260424T145733
CREATED:20231104T000913Z
LAST-MODIFIED:20231104T000913Z
UID:5039-1700686800-1700690400@theovercomers.org.uk
SUMMARY:Prayer Warriors
DESCRIPTION:
URL:https://theovercomers.org.uk/programmes/prayer-warriors-3/
LOCATION:Church Auditorium\, Crampton Road\, Greenbridge Ind. Estate\, Swindon\, SN3 3JJ\, United Kingdom
ATTACH;FMTTYPE=image/jpeg:https://theovercomers.org.uk/wp-content/uploads/2013/04/slider-4.jpg
END:VEVENT
BEGIN:VEVENT
DTSTART;TZID=UTC:20231122T180000
DTEND;TZID=UTC:20231122T193000
DTSTAMP:20260424T145733
CREATED:20231104T000613Z
LAST-MODIFIED:20231104T000613Z
UID:5034-1700676000-1700681400@theovercomers.org.uk
SUMMARY:Bible study
DESCRIPTION:
URL:https://theovercomers.org.uk/programmes/bible-study-3/
LOCATION:Church Auditorium\, Crampton Road\, Greenbridge Ind. Estate\, Swindon\, SN3 3JJ\, United Kingdom
ATTACH;FMTTYPE=image/jpeg:https://theovercomers.org.uk/wp-content/uploads/2023/10/Bible-study.jpg
END:VEVENT
END:VCALENDAR