BEGIN:VCALENDAR
VERSION:2.0
PRODID:-//Overcomers House Swindon - ECPv6.15.18//NONSGML v1.0//EN
CALSCALE:GREGORIAN
METHOD:PUBLISH
X-ORIGINAL-URL:https://theovercomers.org.uk
X-WR-CALDESC:Events for Overcomers House Swindon
REFRESH-INTERVAL;VALUE=DURATION:PT1H
X-Robots-Tag:noindex
X-PUBLISHED-TTL:PT1H
BEGIN:VTIMEZONE
TZID:Europe/London
BEGIN:DAYLIGHT
TZOFFSETFROM:+0000
TZOFFSETTO:+0100
TZNAME:BST
DTSTART:20250330T010000
END:DAYLIGHT
BEGIN:STANDARD
TZOFFSETFROM:+0100
TZOFFSETTO:+0000
TZNAME:GMT
DTSTART:20251026T010000
END:STANDARD
BEGIN:DAYLIGHT
TZOFFSETFROM:+0000
TZOFFSETTO:+0100
TZNAME:BST
DTSTART:20260329T010000
END:DAYLIGHT
BEGIN:STANDARD
TZOFFSETFROM:+0100
TZOFFSETTO:+0000
TZNAME:GMT
DTSTART:20261025T010000
END:STANDARD
BEGIN:DAYLIGHT
TZOFFSETFROM:+0000
TZOFFSETTO:+0100
TZNAME:BST
DTSTART:20270328T010000
END:DAYLIGHT
BEGIN:STANDARD
TZOFFSETFROM:+0100
TZOFFSETTO:+0000
TZNAME:GMT
DTSTART:20271031T010000
END:STANDARD
END:VTIMEZONE
BEGIN:VEVENT
DTSTART;TZID=Europe/London:20260321T110000
DTEND;TZID=Europe/London:20260321T120000
DTSTAMP:20260422T105811
CREATED:20260319T161226Z
LAST-MODIFIED:20260319T161232Z
UID:7112-1774090800-1774094400@theovercomers.org.uk
SUMMARY:Praying Mums Forum March 2026
DESCRIPTION:
URL:https://theovercomers.org.uk/programmes/praying-mums-forum-march-2026/
LOCATION:Teen’s Church
ATTACH;FMTTYPE=image/jpeg:https://theovercomers.org.uk/wp-content/uploads/2026/03/WhatsApp-Image-2026-03-17-at-08.55.44.jpeg
END:VEVENT
END:VCALENDAR