BEGIN:VCALENDAR
VERSION:2.0
PRODID:-//Overcomers House Swindon - ECPv6.15.18//NONSGML v1.0//EN
CALSCALE:GREGORIAN
METHOD:PUBLISH
X-ORIGINAL-URL:https://theovercomers.org.uk
X-WR-CALDESC:Events for Overcomers House Swindon
REFRESH-INTERVAL;VALUE=DURATION:PT1H
X-Robots-Tag:noindex
X-PUBLISHED-TTL:PT1H
BEGIN:VTIMEZONE
TZID:UTC
BEGIN:STANDARD
TZOFFSETFROM:+0000
TZOFFSETTO:+0000
TZNAME:UTC
DTSTART:20240101T000000
END:STANDARD
END:VTIMEZONE
BEGIN:VEVENT
DTSTART;TZID=UTC:20251231T220000
DTEND;TZID=UTC:20260101T003000
DTSTAMP:20260422T173522
CREATED:20251224T105046Z
LAST-MODIFIED:20251228T133022Z
UID:7050-1767218400-1767227400@theovercomers.org.uk
SUMMARY:Crossover Service 2025
DESCRIPTION:JOIN US TO CROSSOVER TO 2026!
URL:https://theovercomers.org.uk/programmes/crossover-service-2025/
LOCATION:Church Auditorium\, Crampton Road\, Greenbridge Ind. Estate\, Swindon\, SN3 3JJ\, United Kingdom
ATTACH;FMTTYPE=image/jpeg:https://theovercomers.org.uk/wp-content/uploads/2025/12/WhatsApp-Image-2025-12-24-at-08.58.04.jpeg
END:VEVENT
END:VCALENDAR