BEGIN:VCALENDAR
VERSION:2.0
PRODID:-//Overcomers House Swindon - ECPv6.15.18//NONSGML v1.0//EN
CALSCALE:GREGORIAN
METHOD:PUBLISH
X-ORIGINAL-URL:https://theovercomers.org.uk
X-WR-CALDESC:Events for Overcomers House Swindon
REFRESH-INTERVAL;VALUE=DURATION:PT1H
X-Robots-Tag:noindex
X-PUBLISHED-TTL:PT1H
BEGIN:VTIMEZONE
TZID:UTC
BEGIN:STANDARD
TZOFFSETFROM:+0000
TZOFFSETTO:+0000
TZNAME:UTC
DTSTART:20240101T000000
END:STANDARD
END:VTIMEZONE
BEGIN:VEVENT
DTSTART;TZID=UTC:20251227T110000
DTEND;TZID=UTC:20251227T120000
DTSTAMP:20260424T150134
CREATED:20251128T152754Z
LAST-MODIFIED:20251210T202345Z
UID:7030-1766833200-1766836800@theovercomers.org.uk
SUMMARY:Praying Mums Forum - December 2025 Special
DESCRIPTION:
URL:https://theovercomers.org.uk/programmes/praying-mums-forum-december-2025-special/
LOCATION:Teen’s Church
ATTACH;FMTTYPE=image/jpeg:https://theovercomers.org.uk/wp-content/uploads/2025/11/WhatsApp-Image-2025-12-07-at-17.02.55.jpeg
END:VEVENT
END:VCALENDAR